BEGIN:VCALENDAR
VERSION:2.0
PRODID:-//ICSE – International Centre for Stem Education - ECPv6.15.20//NONSGML v1.0//EN
CALSCALE:GREGORIAN
METHOD:PUBLISH
X-WR-CALNAME:ICSE – International Centre for Stem Education
X-ORIGINAL-URL:https://icse.eu
X-WR-CALDESC:Events for ICSE – International Centre for Stem Education
REFRESH-INTERVAL;VALUE=DURATION:PT1H
X-Robots-Tag:noindex
X-PUBLISHED-TTL:PT1H
BEGIN:VTIMEZONE
TZID:Europe/Berlin
BEGIN:DAYLIGHT
TZOFFSETFROM:+0100
TZOFFSETTO:+0200
TZNAME:CEST
DTSTART:20200329T010000
END:DAYLIGHT
BEGIN:STANDARD
TZOFFSETFROM:+0200
TZOFFSETTO:+0100
TZNAME:CET
DTSTART:20201025T010000
END:STANDARD
BEGIN:DAYLIGHT
TZOFFSETFROM:+0100
TZOFFSETTO:+0200
TZNAME:CEST
DTSTART:20210328T010000
END:DAYLIGHT
BEGIN:STANDARD
TZOFFSETFROM:+0200
TZOFFSETTO:+0100
TZNAME:CET
DTSTART:20211031T010000
END:STANDARD
BEGIN:DAYLIGHT
TZOFFSETFROM:+0100
TZOFFSETTO:+0200
TZNAME:CEST
DTSTART:20220327T010000
END:DAYLIGHT
BEGIN:STANDARD
TZOFFSETFROM:+0200
TZOFFSETTO:+0100
TZNAME:CET
DTSTART:20221030T010000
END:STANDARD
END:VTIMEZONE
BEGIN:VEVENT
DTSTART;VALUE=DATE:20211104
DTEND;VALUE=DATE:20211106
DTSTAMP:20260424T081444
CREATED:20211011T101135Z
LAST-MODIFIED:20211011T101135Z
UID:7386-1635984000-1636156799@icse.eu
SUMMARY:PBE 2021 - Project-based education and other activating strategies in science education
DESCRIPTION:Pre-service training is crucial to promote innovative educational approaches. Research has shown that\, activating strategies – such as project-based and inquiry-based teaching and learning – need to be trained in pre-service teacher training\, as teachers who have not experienced and practiced it\, will unlikely apply such strategies in their future practice. \nAt the same time\, it seems that applying these strategies requires gradual steps. Students need to develop a growing autonomy of their own learning step by step. From the teachers’ competences point of view it is important to choose appropriate amount of scaffolding and its successive decreasing. \nPBE conference has actively supported future and practicing STEM teachers for a decade\, come and join our journey! \nPBE 2021 is organised by and at the Department of Chemistry and Chemistry Education\, Faculty of Education\, Charles University\, Czech Republic\, with support of other STEM teacher training experts. \nThe STEMkey project will contribute to the conference with its latest insight into competence-based and interdisciplinary STEM education. \n  \nShare this post
URL:https://icse.eu/event/pbe-2021-project-based-education-and-other-activating-strategies-in-science-education/
LOCATION:Prague\, Czech Republic
CATEGORIES:Conference,Lehrerfortbildung
END:VEVENT
END:VCALENDAR