BEGIN:VCALENDAR
VERSION:2.0
PRODID:-//ICSE – International Centre for Stem Education - ECPv6.15.20//NONSGML v1.0//EN
CALSCALE:GREGORIAN
METHOD:PUBLISH
X-ORIGINAL-URL:https://icse.eu
X-WR-CALDESC:Events for ICSE – International Centre for Stem Education
REFRESH-INTERVAL;VALUE=DURATION:PT1H
X-Robots-Tag:noindex
X-PUBLISHED-TTL:PT1H
BEGIN:VTIMEZONE
TZID:Europe/Berlin
BEGIN:DAYLIGHT
TZOFFSETFROM:+0100
TZOFFSETTO:+0200
TZNAME:CEST
DTSTART:20220327T010000
END:DAYLIGHT
BEGIN:STANDARD
TZOFFSETFROM:+0200
TZOFFSETTO:+0100
TZNAME:CET
DTSTART:20221030T010000
END:STANDARD
BEGIN:DAYLIGHT
TZOFFSETFROM:+0100
TZOFFSETTO:+0200
TZNAME:CEST
DTSTART:20230326T010000
END:DAYLIGHT
BEGIN:STANDARD
TZOFFSETFROM:+0200
TZOFFSETTO:+0100
TZNAME:CET
DTSTART:20231029T010000
END:STANDARD
BEGIN:DAYLIGHT
TZOFFSETFROM:+0100
TZOFFSETTO:+0200
TZNAME:CEST
DTSTART:20240331T010000
END:DAYLIGHT
BEGIN:STANDARD
TZOFFSETFROM:+0200
TZOFFSETTO:+0100
TZNAME:CET
DTSTART:20241027T010000
END:STANDARD
END:VTIMEZONE
BEGIN:VEVENT
DTSTART;VALUE=DATE:20230821
DTEND;VALUE=DATE:20230826
DTSTAMP:20260423T030008
CREATED:20230406T142301Z
LAST-MODIFIED:20230406T142320Z
UID:11034-1692576000-1693007999@icse.eu
SUMMARY:ICSE Academy Summer School in Utrecht\, Netherlands
DESCRIPTION:As part of the ICSE Academy\, a summer school for pre-service and in-service STEM teachers will be held August 21-25 in Utrecht. \nTopics will include \n\ninquiry-based learning and interdisciplinarity\,\ncultural diversity and inclusion\,\nconnections to sustainable development goals (SDGs)\,\nand the use and impact of technology on STEM education.\n\nThe summer school offers a blend of lectures\, seminars and workshops on educational research and development in the fields of primary\, secondary and teacher education. \nMore information can be found here: https://utrechtsummerschool.nl/courses/science/mathematics-and-science-stem-education \nShare this post
URL:https://icse.eu/event/icse-academy-summer-school-in-utrecht-netherlands/
LOCATION:Utrecht\, the Netherlands
CATEGORIES:Lehrerfortbildung,Summer School
END:VEVENT
END:VCALENDAR