BEGIN:VCALENDAR
VERSION:2.0
PRODID:-//ICSE – International Centre for Stem Education - ECPv6.15.20//NONSGML v1.0//EN
CALSCALE:GREGORIAN
METHOD:PUBLISH
X-ORIGINAL-URL:https://icse.eu
X-WR-CALDESC:Events for ICSE – International Centre for Stem Education
REFRESH-INTERVAL;VALUE=DURATION:PT1H
X-Robots-Tag:noindex
X-PUBLISHED-TTL:PT1H
BEGIN:VTIMEZONE
TZID:Europe/Berlin
BEGIN:DAYLIGHT
TZOFFSETFROM:+0100
TZOFFSETTO:+0200
TZNAME:CEST
DTSTART:20220327T010000
END:DAYLIGHT
BEGIN:STANDARD
TZOFFSETFROM:+0200
TZOFFSETTO:+0100
TZNAME:CET
DTSTART:20221030T010000
END:STANDARD
BEGIN:DAYLIGHT
TZOFFSETFROM:+0100
TZOFFSETTO:+0200
TZNAME:CEST
DTSTART:20230326T010000
END:DAYLIGHT
BEGIN:STANDARD
TZOFFSETFROM:+0200
TZOFFSETTO:+0100
TZNAME:CET
DTSTART:20231029T010000
END:STANDARD
BEGIN:DAYLIGHT
TZOFFSETFROM:+0100
TZOFFSETTO:+0200
TZNAME:CEST
DTSTART:20240331T010000
END:DAYLIGHT
BEGIN:STANDARD
TZOFFSETFROM:+0200
TZOFFSETTO:+0100
TZNAME:CET
DTSTART:20241027T010000
END:STANDARD
END:VTIMEZONE
BEGIN:VEVENT
DTSTART;TZID=Europe/Berlin:20231107T160000
DTEND;TZID=Europe/Berlin:20231107T180000
DTSTAMP:20260422T225642
CREATED:20231026T141211Z
LAST-MODIFIED:20231102T145846Z
UID:12153-1699372800-1699380000@icse.eu
SUMMARY:Analysing and Design STEM Tasks for Diversity and Inclusion - European Workshop Series Cluster 2 "Diversity and Inclusion"
DESCRIPTION:ICSE Academy project is piloting online workshop series for teachers and teacher students. \nCluster 2 “Diversity and Inclusion” \nTopic today: Analysing and Design STEM Tasks for Diversity and Inclusion \nIn this session we build on insights from the previous session and focus on various dimensions of diversity. Participants become familiar with (re)design strategies for selecting & developing tasks and adapting them to their context. We will discuss various formats of tasks\,  pedagogical approaches and relations with role models. Participants prepare an example activity for try-out including a lesson plan and expectations with respect to inclusion/diversity.  \nShare this post
URL:https://icse.eu/event/analysing-and-design-stem-tasks-for-diversity-and-inclusion-european-workshop-series-cluster-2-diversity-and-inclusion/
CATEGORIES:Lehrerfortbildung
END:VEVENT
BEGIN:VEVENT
DTSTART;TZID=Europe/Berlin:20231114T160000
DTEND;TZID=Europe/Berlin:20231114T180000
DTSTAMP:20260422T225642
CREATED:20231026T141317Z
LAST-MODIFIED:20231102T145916Z
UID:12155-1699977600-1699984800@icse.eu
SUMMARY:Analysing Inclusive Classroom Practices - European Workshop Series Cluster 2 "Diversity and Inclusion"
DESCRIPTION:ICSE Academy project is piloting online workshop series for teachers and teacher students. \nCluster 2 “Diversity and Inclusion” \nTopic today: Analysing Inclusive Classroom Practices  (based upon try-outs) \nDuring this session the teachers are expected to inquire and reflect on their enacted lessons using theoretical constructs and tools coming from research on inclusive classroom practices. Through this process\, the session aims to support teachers to become aware of knowledge and strategies to implement and evaluate inclusive STEM lessons as well as of the affordances\, constraints and challenges of such lessons. Finally\, directions will be provided for future practices\, and participants will be asked to indicate two key messages from this cluster that they would like to keep practicing in their classroom. \nShare this post
URL:https://icse.eu/event/analysing-inclusive-classroom-practices-european-workshop-series-cluster-2-diversity-and-inclusion/
CATEGORIES:Lehrerfortbildung
END:VEVENT
BEGIN:VEVENT
DTSTART;TZID=Europe/Berlin:20231121T160000
DTEND;TZID=Europe/Berlin:20231121T180000
DTSTAMP:20260422T225642
CREATED:20231026T141501Z
LAST-MODIFIED:20231026T141501Z
UID:12157-1700582400-1700589600@icse.eu
SUMMARY:"Digital Competencies\, Skills and Technology in the STEM Field" - European Workshop Series Cluster 3 "STEM in a Digital Era"
DESCRIPTION:Online workshop series of the ICSE Academy project for teachers and students. \nCluster 3 “STEM in a Digital Era” \nTopic today: “Digital Competencies\, Skills and Technology in the STEM Field” \nShare this post
URL:https://icse.eu/event/digital-competencies-skills-and-technology-in-the-stem-field-european-workshop-series-cluster-3-stem-in-a-digital-era/
CATEGORIES:Lehrerfortbildung
END:VEVENT
BEGIN:VEVENT
DTSTART;TZID=Europe/Berlin:20231128T160000
DTEND;TZID=Europe/Berlin:20231128T180000
DTSTAMP:20260422T225642
CREATED:20231026T141557Z
LAST-MODIFIED:20231102T145949Z
UID:12159-1701187200-1701194400@icse.eu
SUMMARY:"Computational Thinking" - European Workshop Series Cluster 3 "STEM in a Digital Era"
DESCRIPTION:Online workshop series of the ICSE Academy project for teachers and students. \nCluster 3 “STEM in a Digital Era” \nTopic today: “Computational Thinking” \nShare this post
URL:https://icse.eu/event/computational-thinking-european-workshop-series-cluster-3-stem-in-a-digital-era/
CATEGORIES:Lehrerfortbildung
END:VEVENT
END:VCALENDAR