BEGIN:VCALENDAR
VERSION:2.0
PRODID:-//ICSE – International Centre for Stem Education - ECPv6.15.20//NONSGML v1.0//EN
CALSCALE:GREGORIAN
METHOD:PUBLISH
X-WR-CALNAME:ICSE – International Centre for Stem Education
X-ORIGINAL-URL:https://icse.eu
X-WR-CALDESC:Events for ICSE – International Centre for Stem Education
REFRESH-INTERVAL;VALUE=DURATION:PT1H
X-Robots-Tag:noindex
X-PUBLISHED-TTL:PT1H
BEGIN:VTIMEZONE
TZID:Europe/Berlin
BEGIN:DAYLIGHT
TZOFFSETFROM:+0100
TZOFFSETTO:+0200
TZNAME:CEST
DTSTART:20230326T010000
END:DAYLIGHT
BEGIN:STANDARD
TZOFFSETFROM:+0200
TZOFFSETTO:+0100
TZNAME:CET
DTSTART:20231029T010000
END:STANDARD
BEGIN:DAYLIGHT
TZOFFSETFROM:+0100
TZOFFSETTO:+0200
TZNAME:CEST
DTSTART:20240331T010000
END:DAYLIGHT
BEGIN:STANDARD
TZOFFSETFROM:+0200
TZOFFSETTO:+0100
TZNAME:CET
DTSTART:20241027T010000
END:STANDARD
BEGIN:DAYLIGHT
TZOFFSETFROM:+0100
TZOFFSETTO:+0200
TZNAME:CEST
DTSTART:20250330T010000
END:DAYLIGHT
BEGIN:STANDARD
TZOFFSETFROM:+0200
TZOFFSETTO:+0100
TZNAME:CET
DTSTART:20251026T010000
END:STANDARD
END:VTIMEZONE
BEGIN:VEVENT
DTSTART;TZID=Europe/Berlin:20240109T160000
DTEND;TZID=Europe/Berlin:20240109T180000
DTSTAMP:20260422T201931
CREATED:20231026T142020Z
LAST-MODIFIED:20231026T142020Z
UID:12170-1704816000-1704823200@icse.eu
SUMMARY:"Analysing proposals for innovative assessment practices across STEM disciplines" - European Workshop Series Cluster 4 "Assessment"
DESCRIPTION:Online workshop series of the ICSE Academy project for teachers and students. \nCluster 4 “Assessment” \nTopic today: “Analysing proposals for innovative assessment practices across STEM disciplines” \nShare this post
URL:https://icse.eu/event/analysing-proposals-for-innovative-assessment-practices-across-stem-disciplines-european-workshop-series-cluster-4-assessment/
CATEGORIES:Lehrerfortbildung
END:VEVENT
END:VCALENDAR