BEGIN:VCALENDAR
VERSION:2.0
PRODID:-//ICSE – International Centre for Stem Education - ECPv6.15.20//NONSGML v1.0//EN
CALSCALE:GREGORIAN
METHOD:PUBLISH
X-WR-CALNAME:ICSE – International Centre for Stem Education
X-ORIGINAL-URL:https://icse.eu
X-WR-CALDESC:Events for ICSE – International Centre for Stem Education
REFRESH-INTERVAL;VALUE=DURATION:PT1H
X-Robots-Tag:noindex
X-PUBLISHED-TTL:PT1H
BEGIN:VTIMEZONE
TZID:Europe/Berlin
BEGIN:DAYLIGHT
TZOFFSETFROM:+0100
TZOFFSETTO:+0200
TZNAME:CEST
DTSTART:20230326T010000
END:DAYLIGHT
BEGIN:STANDARD
TZOFFSETFROM:+0200
TZOFFSETTO:+0100
TZNAME:CET
DTSTART:20231029T010000
END:STANDARD
BEGIN:DAYLIGHT
TZOFFSETFROM:+0100
TZOFFSETTO:+0200
TZNAME:CEST
DTSTART:20240331T010000
END:DAYLIGHT
BEGIN:STANDARD
TZOFFSETFROM:+0200
TZOFFSETTO:+0100
TZNAME:CET
DTSTART:20241027T010000
END:STANDARD
BEGIN:DAYLIGHT
TZOFFSETFROM:+0100
TZOFFSETTO:+0200
TZNAME:CEST
DTSTART:20250330T010000
END:DAYLIGHT
BEGIN:STANDARD
TZOFFSETFROM:+0200
TZOFFSETTO:+0100
TZNAME:CET
DTSTART:20251026T010000
END:STANDARD
END:VTIMEZONE
BEGIN:VEVENT
DTSTART;VALUE=DATE:20241201
DTEND;VALUE=DATE:20241202
DTSTAMP:20260420T080830
CREATED:20241107T142753Z
LAST-MODIFIED:20241107T184529Z
UID:14312-1733011200-1733097599@icse.eu
SUMMARY:Molecular Biology Techniques: Comprehensive Approaches for Educators and Enthusiasts
DESCRIPTION:This autumn\, join EMBL’s Science Education and Public Engagement team\, in collaboration with Merck\, for a self-paced online course entitled “Molecular Biology Techniques: Comprehensive Approaches for Educators and Enthusiasts”. This course is tailored for science educators\, researchers\, and anyone fascinated by the innovative techniques used in modern molecular biology. Immerse yourself in this evolving discipline and explore its potential to transform scientific research. The course runs from 21 October to 1 December 2024\, with participants able to join at any time over the six weeks. The course is free\, with an estimated workload of 2 hours per week\, and participants will have the opportunity to earn a certificate upon completion. The working language of the course is English and anyone interested can join at any point until 1 December 2024. \nJoin by: 1 December 2024 \nFind out more at: https://www.embl.org/ells/training/molecular-biology-techniques-2024/ \nJoin here: https://ecampus.embl.de/user/index.php?id=176 \nShare this post
URL:https://icse.eu/event/molecular-biology-techniques-comprehensive-approaches-for-educators-and-enthusiasts/
LOCATION:Online
CATEGORIES:General,Lehrerfortbildung
ATTACH;FMTTYPE=image/jpeg:https://icse.eu/wp-content/uploads/2024/11/Social-Media-Advertisement_MolBio2024.jpg
END:VEVENT
END:VCALENDAR