BEGIN:VCALENDAR
VERSION:2.0
PRODID:-//ICSE – International Centre for Stem Education - ECPv6.15.20//NONSGML v1.0//EN
CALSCALE:GREGORIAN
METHOD:PUBLISH
X-ORIGINAL-URL:https://icse.eu
X-WR-CALDESC:Events for ICSE – International Centre for Stem Education
REFRESH-INTERVAL;VALUE=DURATION:PT1H
X-Robots-Tag:noindex
X-PUBLISHED-TTL:PT1H
BEGIN:VTIMEZONE
TZID:Europe/Berlin
BEGIN:DAYLIGHT
TZOFFSETFROM:+0100
TZOFFSETTO:+0200
TZNAME:CEST
DTSTART:20240331T010000
END:DAYLIGHT
BEGIN:STANDARD
TZOFFSETFROM:+0200
TZOFFSETTO:+0100
TZNAME:CET
DTSTART:20241027T010000
END:STANDARD
BEGIN:DAYLIGHT
TZOFFSETFROM:+0100
TZOFFSETTO:+0200
TZNAME:CEST
DTSTART:20250330T010000
END:DAYLIGHT
BEGIN:STANDARD
TZOFFSETFROM:+0200
TZOFFSETTO:+0100
TZNAME:CET
DTSTART:20251026T010000
END:STANDARD
BEGIN:DAYLIGHT
TZOFFSETFROM:+0100
TZOFFSETTO:+0200
TZNAME:CEST
DTSTART:20260329T010000
END:DAYLIGHT
BEGIN:STANDARD
TZOFFSETFROM:+0200
TZOFFSETTO:+0100
TZNAME:CET
DTSTART:20261025T010000
END:STANDARD
END:VTIMEZONE
BEGIN:VEVENT
DTSTART;VALUE=DATE:20250508
DTEND;VALUE=DATE:20250509
DTSTAMP:20260420T010628
CREATED:20241017T135801Z
LAST-MODIFIED:20241107T184525Z
UID:14128-1746662400-1746748799@icse.eu
SUMMARY:Teachers' Day ETE 2025
DESCRIPTION:ETE2025 provides a variety of activities designed specifically for STEM teachers and educators. The conference features hands-on workshops that showcase innovative teaching strategies and activities\, offering participants practical and cutting-edge approaches to enhance their educational practices. \nIn addition\, the Teachers’ Day includes oral presentations that delve into the latest trends and insights from research\, practice\, and policy\, providing valuable updates and knowledge in the field. Participants will also have opportunities to network and connect with fellow teachers\, researchers\, and policymakers to discuss challenges\, explore opportunities in STEM education\, and build meaningful professional relationships. \nTo summarise\, participants in Teachers’ Day: \n\nwill have the chance to attend the opening keynote\,\nwill be invited to a special teachers’ welcome\,\nwill be invited to offer and/or join hands-on workshops\,\ncan connect through discussion formats focused on the four conference tracks\,\nand can present their work in a poster session with networking opportunities.\n\nInformation on submission can be found in the call on: https://educating-the-educators.icse.eu/call-for-submissions/ \nShare this post
URL:https://icse.eu/event/teachers-day-ete-2025/
CATEGORIES:Conference,General,Lehrerfortbildung,Network meeting
END:VEVENT
END:VCALENDAR