BEGIN:VCALENDAR
VERSION:2.0
PRODID:-//ICSE – International Centre for Stem Education - ECPv6.15.20//NONSGML v1.0//EN
CALSCALE:GREGORIAN
METHOD:PUBLISH
X-ORIGINAL-URL:https://icse.eu
X-WR-CALDESC:Events for ICSE – International Centre for Stem Education
REFRESH-INTERVAL;VALUE=DURATION:PT1H
X-Robots-Tag:noindex
X-PUBLISHED-TTL:PT1H
BEGIN:VTIMEZONE
TZID:Europe/Copenhagen
BEGIN:DAYLIGHT
TZOFFSETFROM:+0100
TZOFFSETTO:+0200
TZNAME:CEST
DTSTART:20240331T010000
END:DAYLIGHT
BEGIN:STANDARD
TZOFFSETFROM:+0200
TZOFFSETTO:+0100
TZNAME:CET
DTSTART:20241027T010000
END:STANDARD
BEGIN:DAYLIGHT
TZOFFSETFROM:+0100
TZOFFSETTO:+0200
TZNAME:CEST
DTSTART:20250330T010000
END:DAYLIGHT
BEGIN:STANDARD
TZOFFSETFROM:+0200
TZOFFSETTO:+0100
TZNAME:CET
DTSTART:20251026T010000
END:STANDARD
BEGIN:DAYLIGHT
TZOFFSETFROM:+0100
TZOFFSETTO:+0200
TZNAME:CEST
DTSTART:20260329T010000
END:DAYLIGHT
BEGIN:STANDARD
TZOFFSETFROM:+0200
TZOFFSETTO:+0100
TZNAME:CET
DTSTART:20261025T010000
END:STANDARD
END:VTIMEZONE
BEGIN:VEVENT
DTSTART;TZID=Europe/Copenhagen:20250826T170000
DTEND;TZID=Europe/Copenhagen:20250826T183000
DTSTAMP:20260420T023029
CREATED:20250814T091827Z
LAST-MODIFIED:20250814T093229Z
UID:15766-1756227600-1756233000@icse.eu
SUMMARY:ICSE Science Factory: Interactional Challenges in Open Schooling Practices
DESCRIPTION:The ICSE Science Factory team member will present a paper on “Interactional Challenges in Open Schooling Practices” at the 16th Conference of the European Science Education Research Association (ESERA 2025) in Copenhagen\, Denmark. \nhttps://virtual.oxfordabstracts.com/event/73500/submission/694 \nSESSION DETAILS\nS07.06 – Argumentation and Critical Thinking in Science Education: Exploring Effective Approaches \n\n\nRysensteen Bygning 83 Lokale BI\n17:00-18:30\nTuesday\, 26 August 2025\n\n\nShare this post
URL:https://icse.eu/event/icse-science-factory-interactional-challenges-in-open-schooling-practices/
CATEGORIES:Conference,General,Science Factory
ATTACH;FMTTYPE=image/png:https://icse.eu/wp-content/uploads/2025/08/Screenshot-2025-08-14-at-12.19.47.png
END:VEVENT
END:VCALENDAR