BEGIN:VCALENDAR
VERSION:2.0
PRODID:-//ICSE – International Centre for Stem Education - ECPv6.15.20//NONSGML v1.0//EN
CALSCALE:GREGORIAN
METHOD:PUBLISH
X-ORIGINAL-URL:https://icse.eu
X-WR-CALDESC:Events for ICSE – International Centre for Stem Education
REFRESH-INTERVAL;VALUE=DURATION:PT1H
X-Robots-Tag:noindex
X-PUBLISHED-TTL:PT1H
BEGIN:VTIMEZONE
TZID:Europe/Berlin
BEGIN:DAYLIGHT
TZOFFSETFROM:+0100
TZOFFSETTO:+0200
TZNAME:CEST
DTSTART:20200329T010000
END:DAYLIGHT
BEGIN:STANDARD
TZOFFSETFROM:+0200
TZOFFSETTO:+0100
TZNAME:CET
DTSTART:20201025T010000
END:STANDARD
BEGIN:DAYLIGHT
TZOFFSETFROM:+0100
TZOFFSETTO:+0200
TZNAME:CEST
DTSTART:20210328T010000
END:DAYLIGHT
BEGIN:STANDARD
TZOFFSETFROM:+0200
TZOFFSETTO:+0100
TZNAME:CET
DTSTART:20211031T010000
END:STANDARD
BEGIN:DAYLIGHT
TZOFFSETFROM:+0100
TZOFFSETTO:+0200
TZNAME:CEST
DTSTART:20220327T010000
END:DAYLIGHT
BEGIN:STANDARD
TZOFFSETFROM:+0200
TZOFFSETTO:+0100
TZNAME:CET
DTSTART:20221030T010000
END:STANDARD
END:VTIMEZONE
BEGIN:VEVENT
DTSTART;VALUE=DATE:20210531
DTEND;VALUE=DATE:20211210
DTSTAMP:20260424T075221
CREATED:20210628T133919Z
LAST-MODIFIED:20210628T133919Z
UID:6796-1622419200-1639094399@icse.eu
SUMMARY:GEM Girls Club in Utrecht\, Netherlands
DESCRIPTION:GEM Girlsclub WIN \n(‘Wiskunde\, Informatica\, Natuurkunde’ -> Mathematics\, Computer Science\, Physics) \n  \nUtrecht University has shifted from a regular summer school programme for Dutch girls to a yearlong programme of Girlsclub-days\, due to the Corona Pandemic. The programme is set for 24 girls on each day between 14 and 15 years old and participants will get to know young female scientists who are already established in the field and young women just entering the fields of computer science\, mathematics\, and physics. Activities include programming\, designing\, doing experiments as well as behind the scenes faculty access. \n  \nDates: \n31 May 2021\n21 June 2021\n14 October 2021\n9 December 2021 \n  \n  \nContact Person: Marjolein Gelauff and Vincent Jonker \nShare this post
URL:https://icse.eu/event/gem-girls-club-in-utrecht-netherlands/
LOCATION:Utrecht\, the Netherlands
CATEGORIES:Summer School
ATTACH;FMTTYPE=image/png:https://icse.eu/wp-content/uploads/2020/02/ICSE-GEM_Logo-1.png
END:VEVENT
END:VCALENDAR