BEGIN:VCALENDAR
VERSION:2.0
PRODID:-//ICSE – International Centre for Stem Education - ECPv6.15.20//NONSGML v1.0//EN
CALSCALE:GREGORIAN
METHOD:PUBLISH
X-ORIGINAL-URL:https://icse.eu
X-WR-CALDESC:Events for ICSE – International Centre for Stem Education
REFRESH-INTERVAL;VALUE=DURATION:PT1H
X-Robots-Tag:noindex
X-PUBLISHED-TTL:PT1H
BEGIN:VTIMEZONE
TZID:Europe/Berlin
BEGIN:DAYLIGHT
TZOFFSETFROM:+0100
TZOFFSETTO:+0200
TZNAME:CEST
DTSTART:20230326T010000
END:DAYLIGHT
BEGIN:STANDARD
TZOFFSETFROM:+0200
TZOFFSETTO:+0100
TZNAME:CET
DTSTART:20231029T010000
END:STANDARD
BEGIN:DAYLIGHT
TZOFFSETFROM:+0100
TZOFFSETTO:+0200
TZNAME:CEST
DTSTART:20240331T010000
END:DAYLIGHT
BEGIN:STANDARD
TZOFFSETFROM:+0200
TZOFFSETTO:+0100
TZNAME:CET
DTSTART:20241027T010000
END:STANDARD
BEGIN:DAYLIGHT
TZOFFSETFROM:+0100
TZOFFSETTO:+0200
TZNAME:CEST
DTSTART:20250330T010000
END:DAYLIGHT
BEGIN:STANDARD
TZOFFSETFROM:+0200
TZOFFSETTO:+0100
TZNAME:CET
DTSTART:20251026T010000
END:STANDARD
END:VTIMEZONE
BEGIN:VEVENT
DTSTART;VALUE=DATE:20240628
DTEND;VALUE=DATE:20240706
DTSTAMP:20260422T121142
CREATED:20240403T091906Z
LAST-MODIFIED:20240418T092607Z
UID:12706-1719532800-1720223999@icse.eu
SUMMARY:ICSE Academy Summer School Prague (CZ)
DESCRIPTION:The focus of this STEM Education summer school is bringing participants up to date in research and teaching practices in the field of the STEM subjects (Science\, Technology\, Engineering and\nMathematics)\, and refreshing and deepening the knowledge of meaningful and relevant educational practices. Topics will include inquiry-based learning and interdisciplinarity\, cultural diversity and inclusion\, connections to sustainable development goals (SDGs)\, and the use and impact of technology on STEM education. The summer school offers a blend of lectures\, seminars and workshops on educational research and towards the diverse interests of student-teachers\, doctoral students\, teachers\, teacher educators and researchers. \n  \nIf you are interested in participating in our ICSE Academy summer school in Prague CZ\, click here to get more information on the programme and the application process. \n  \nShare this post
URL:https://icse.eu/event/martin-bilekpedf-cuni-cz/
LOCATION:Prague\, Czech Republic
CATEGORIES:Summer School
END:VEVENT
END:VCALENDAR