BEGIN:VCALENDAR
VERSION:2.0
PRODID:-//ICSE – International Centre for Stem Education - ECPv6.15.20//NONSGML v1.0//EN
CALSCALE:GREGORIAN
METHOD:PUBLISH
X-WR-CALNAME:ICSE – International Centre for Stem Education
X-ORIGINAL-URL:https://icse.eu
X-WR-CALDESC:Events for ICSE – International Centre for Stem Education
REFRESH-INTERVAL;VALUE=DURATION:PT1H
X-Robots-Tag:noindex
X-PUBLISHED-TTL:PT1H
BEGIN:VTIMEZONE
TZID:Europe/Berlin
BEGIN:DAYLIGHT
TZOFFSETFROM:+0100
TZOFFSETTO:+0200
TZNAME:CEST
DTSTART:20170326T010000
END:DAYLIGHT
BEGIN:STANDARD
TZOFFSETFROM:+0200
TZOFFSETTO:+0100
TZNAME:CET
DTSTART:20171029T010000
END:STANDARD
BEGIN:DAYLIGHT
TZOFFSETFROM:+0100
TZOFFSETTO:+0200
TZNAME:CEST
DTSTART:20180325T010000
END:DAYLIGHT
BEGIN:STANDARD
TZOFFSETFROM:+0200
TZOFFSETTO:+0100
TZNAME:CET
DTSTART:20181028T010000
END:STANDARD
BEGIN:DAYLIGHT
TZOFFSETFROM:+0100
TZOFFSETTO:+0200
TZNAME:CEST
DTSTART:20190331T010000
END:DAYLIGHT
BEGIN:STANDARD
TZOFFSETFROM:+0200
TZOFFSETTO:+0100
TZNAME:CET
DTSTART:20191027T010000
END:STANDARD
BEGIN:DAYLIGHT
TZOFFSETFROM:+0100
TZOFFSETTO:+0200
TZNAME:CEST
DTSTART:20200329T010000
END:DAYLIGHT
BEGIN:STANDARD
TZOFFSETFROM:+0200
TZOFFSETTO:+0100
TZNAME:CET
DTSTART:20201025T010000
END:STANDARD
END:VTIMEZONE
BEGIN:VEVENT
DTSTART;TZID=Europe/Berlin:20190515T130000
DTEND;TZID=Europe/Berlin:20190517T150000
DTSTAMP:20260423T201629
CREATED:20181220T083214Z
LAST-MODIFIED:20181220T083214Z
UID:3183-1557925200-1558105200@icse.eu
SUMMARY:5th MaSDiV Project Meeting
DESCRIPTION:Share this post
URL:https://icse.eu/event/5th-masdiv-project-meeting/
LOCATION:Cyprus\, Greece
END:VEVENT
BEGIN:VEVENT
DTSTART;VALUE=DATE:20181126
DTEND;VALUE=DATE:20181130
DTSTAMP:20260423T201629
CREATED:20181008T083653Z
LAST-MODIFIED:20181008T083653Z
UID:2378-1543190400-1543535999@icse.eu
SUMMARY:STEM PD Net Project Meeting
DESCRIPTION:We are looking forward to our next STEM PD Net Project Meeting. This time it will be held in Sofia\, Bulgaria\, in November 2018. \nShare this post
URL:https://icse.eu/event/stem-pd-net-project-meeting/
LOCATION:Sofia\, Bulgaria\, Sofia\, Bulgaria
CATEGORIES:Project meeting
END:VEVENT
BEGIN:VEVENT
DTSTART;VALUE=DATE:20181022
DTEND;VALUE=DATE:20181026
DTSTAMP:20260423T201629
CREATED:20181008T083312Z
LAST-MODIFIED:20181008T083414Z
UID:2376-1540166400-1540511999@icse.eu
SUMMARY:InclusMe Project Meeting
DESCRIPTION:We are looking foward to announce our next InclusMe Project Meeting\, which will take place in Malta\, October 2018. More about the InclusMe project: inclusme-project.eu  \nShare this post
URL:https://icse.eu/event/inclusme-project-meeting/
LOCATION:St. George’s Bay\, St. George's Bay\, Malta
CATEGORIES:Project meeting
END:VEVENT
BEGIN:VEVENT
DTSTART;VALUE=DATE:20181022
DTEND;VALUE=DATE:20181026
DTSTAMP:20260423T201629
CREATED:20181008T083105Z
LAST-MODIFIED:20181008T083436Z
UID:2372-1540166400-1540511999@icse.eu
SUMMARY:MaSDiV Project Meeting
DESCRIPTION:The next MaSDiV Project Meeting will take place in St. George’s Bay\, Malta. We are looking foward to seeing all our partners there in October! For more information on the MaSDiV project\, please visit our website: masdiv-project.eu \nShare this post
URL:https://icse.eu/event/masdiv-project-meeting/
LOCATION:St. George’s Bay\, St. George's Bay\, Malta
CATEGORIES:Project meeting
END:VEVENT
END:VCALENDAR