BEGIN:VCALENDAR
VERSION:2.0
PRODID:-//ICSE – International Centre for Stem Education - ECPv6.15.20//NONSGML v1.0//EN
CALSCALE:GREGORIAN
METHOD:PUBLISH
X-ORIGINAL-URL:https://icse.eu
X-WR-CALDESC:Events for ICSE – International Centre for Stem Education
REFRESH-INTERVAL;VALUE=DURATION:PT1H
X-Robots-Tag:noindex
X-PUBLISHED-TTL:PT1H
BEGIN:VTIMEZONE
TZID:Europe/Berlin
BEGIN:DAYLIGHT
TZOFFSETFROM:+0100
TZOFFSETTO:+0200
TZNAME:CEST
DTSTART:20230326T010000
END:DAYLIGHT
BEGIN:STANDARD
TZOFFSETFROM:+0200
TZOFFSETTO:+0100
TZNAME:CET
DTSTART:20231029T010000
END:STANDARD
BEGIN:DAYLIGHT
TZOFFSETFROM:+0100
TZOFFSETTO:+0200
TZNAME:CEST
DTSTART:20240331T010000
END:DAYLIGHT
BEGIN:STANDARD
TZOFFSETFROM:+0200
TZOFFSETTO:+0100
TZNAME:CET
DTSTART:20241027T010000
END:STANDARD
BEGIN:DAYLIGHT
TZOFFSETFROM:+0100
TZOFFSETTO:+0200
TZNAME:CEST
DTSTART:20250330T010000
END:DAYLIGHT
BEGIN:STANDARD
TZOFFSETFROM:+0200
TZOFFSETTO:+0100
TZNAME:CET
DTSTART:20251026T010000
END:STANDARD
BEGIN:DAYLIGHT
TZOFFSETFROM:+0100
TZOFFSETTO:+0200
TZNAME:CEST
DTSTART:20260329T010000
END:DAYLIGHT
BEGIN:STANDARD
TZOFFSETFROM:+0200
TZOFFSETTO:+0100
TZNAME:CET
DTSTART:20261025T010000
END:STANDARD
END:VTIMEZONE
BEGIN:VEVENT
DTSTART;TZID=Europe/Berlin:20250222T100000
DTEND;TZID=Europe/Berlin:20250222T120000
DTSTAMP:20260419T161410
CREATED:20250213T151744Z
LAST-MODIFIED:20250812T090821Z
UID:14920-1740218400-1740225600@icse.eu
SUMMARY:Lighthouse Activities in Ankara
DESCRIPTION:Lighthouse Activities in Ankara \nAre you ready to enter a world of science\, art\, and fun? Lighthouse Activity is an interactive activity organized as part of the ICSE Science Factory Project\, which encourages children and families to learn in a fun way. In this program\, you will discover the connection between science and real life\, develop your creativity through art\, and enjoy connecting with nature. \nThese workshops\, based on real-life themes\, aim to show that learning is a joyful journey at school and in all areas of life. Join this unique experience\, where you will discover and have fun in an interdisciplinary and collaborative environment! \nLighthouse Activities are for everyone open to learning and discovery. \nChildren aged 5 and 6: Little scientists and artists who want to explore their creativity and learn new skills. \nParents: Parents who want to spend quality time with their children and actively participate in the learning process. Join this unique experience and enjoy learning with fun! \n. \nApplications for the Lighthouse Activities in Ankara: fill out the online application form available HERE!
URL:https://icse.eu/event/la/
LOCATION:Ankara\, Turkey
CATEGORIES:Science Factory
END:VEVENT
BEGIN:VEVENT
DTSTART;VALUE=DATE:20241205
DTEND;VALUE=DATE:20241206
DTSTAMP:20260419T161410
CREATED:20241107T191010Z
LAST-MODIFIED:20241202T102028Z
UID:14327-1733356800-1733443199@icse.eu
SUMMARY:Evening of Mathematics
DESCRIPTION:The Evening of Mathematics project will be held again this year\, organized by the Croatian Mathematical Society\, with the support of the Ministry of Science\, Education and Youth of the Republic of Croatia\, on Thursday\,  December 5\, 2024\,  starting at 6 p.m. \nThe Evening of Mathematics is a set of interactive workshops that encourage the development of a positive attitude towards mathematics in students. The Evening of Mathematics has been held since 2013. Last year’s Mathematics Evening proved to be highly successful\, with over 108\,500 participants from 940 kindergartens\, primary schools\, and secondary schools from all over the Republic of Croatia\, and we hope that this number will increase further this year. \nApplications for the Evening of Mathematics: fill out the online application form available at  bit.ly/VM2024-prijava \nYou can follow news about the Evening of Mathematics on HMD’s website\,  https://matematika.hr/vecer-matematike/2024 \, and on our Facebook page  https://www.facebook.com/vecermatematike/?fref=ts .
URL:https://icse.eu/event/eventing-of-mathematics/
LOCATION:Zagreb\, Croatia (Local Name: Hrvatska)
CATEGORIES:Science Factory
END:VEVENT
END:VCALENDAR