BEGIN:VCALENDAR
VERSION:2.0
PRODID:-//ICSE – International Centre for Stem Education - ECPv6.15.20//NONSGML v1.0//EN
CALSCALE:GREGORIAN
METHOD:PUBLISH
X-ORIGINAL-URL:https://icse.eu
X-WR-CALDESC:Events for ICSE – International Centre for Stem Education
REFRESH-INTERVAL;VALUE=DURATION:PT1H
X-Robots-Tag:noindex
X-PUBLISHED-TTL:PT1H
BEGIN:VTIMEZONE
TZID:Europe/Berlin
BEGIN:DAYLIGHT
TZOFFSETFROM:+0100
TZOFFSETTO:+0200
TZNAME:CEST
DTSTART:20220327T010000
END:DAYLIGHT
BEGIN:STANDARD
TZOFFSETFROM:+0200
TZOFFSETTO:+0100
TZNAME:CET
DTSTART:20221030T010000
END:STANDARD
BEGIN:DAYLIGHT
TZOFFSETFROM:+0100
TZOFFSETTO:+0200
TZNAME:CEST
DTSTART:20230326T010000
END:DAYLIGHT
BEGIN:STANDARD
TZOFFSETFROM:+0200
TZOFFSETTO:+0100
TZNAME:CET
DTSTART:20231029T010000
END:STANDARD
BEGIN:DAYLIGHT
TZOFFSETFROM:+0100
TZOFFSETTO:+0200
TZNAME:CEST
DTSTART:20240331T010000
END:DAYLIGHT
BEGIN:STANDARD
TZOFFSETFROM:+0200
TZOFFSETTO:+0100
TZNAME:CET
DTSTART:20241027T010000
END:STANDARD
END:VTIMEZONE
BEGIN:VEVENT
DTSTART;VALUE=DATE:20230828
DTEND;VALUE=DATE:20230902
DTSTAMP:20260421T115632
CREATED:20230308T111507Z
LAST-MODIFIED:20230420T081134Z
UID:10845-1693180800-1693612799@icse.eu
SUMMARY:ESERA 2023
DESCRIPTION:The 15th Conference of the European Science Education Research Association (ESERA 2023) symposium\, will take place in Cappadocia\, Turkey 28 August – 1 September 2023. This years’ theme is “Connecting Science Education with Cultural Heritage“. \nThe 3C4Life project team will organize a policy seminar for researchers\, teachers and policy makers. The title of our seminar is “Challenges and opportunities of STEM education – Bridging Science\, Practice and Policy in Europe”. In this seminar\, we will discuss career possibilities\, collaborative practices and competence development prospects. We invite everyone interested in this symposium to our session in Cappadocia\, also known as ‘the land of beautiful horses’\, which is on the UNESCO World Heritage Site list. \nMore information on the seminar will follow. \nMore about ESERA: www.esera2023.net
URL:https://icse.eu/event/esera-2023/
CATEGORIES:Conference
ATTACH;FMTTYPE=image/jpeg:https://icse.eu/wp-content/uploads/2023/03/esera-pixabay-e1678274316182.jpg
END:VEVENT
END:VCALENDAR